BEGIN:VCALENDAR
VERSION:2.0
PRODID:DPCALENDAR
CALSCALE:GREGORIAN
BEGIN:VTIMEZONE
TZID:America/New_York
X-MICROSOFT-CDO-TZID:10
BEGIN:STANDARD
DTSTART:20251102T060000
TZOFFSETFROM:-0400
TZOFFSETTO:-0500
TZNAME:EST
END:STANDARD
BEGIN:STANDARD
DTSTART:20261101T060000
TZOFFSETFROM:-0400
TZOFFSETTO:-0500
TZNAME:EST
END:STANDARD
BEGIN:DAYLIGHT
DTSTART:20260308T070000
TZOFFSETFROM:-0500
TZOFFSETTO:-0400
TZNAME:EDT
END:DAYLIGHT
END:VTIMEZONE
X-WR-TIMEZONE:America/New_York
BEGIN:VEVENT
DTSTART;VALUE=DATE:20241024
DTEND;VALUE=DATE:20241026
UID:74AE0E93-0B71-4AB0-A395-46CA4327F82F
SUMMARY:GCDD Quarterly Council Meeting
CREATED:20240814T235239Z
DTSTAMP:20240814T235239Z
URL:https://gcdd.org/news-a-media/calendar-of-events/gcdd-quarterly-council-meeting-5
DESCRIPTION:The members of the Georgia Council on Developmental Disabilities (GCDD) meet quarterly to learn what is happening in Georgia and around the nation for people with developmental disabilities and their families. During these meetings, members spend time discussing best or promising practices, hearing from projects funded by GCDD, and conducting business to be an effective and efficient organization.\NThe next Council Meeting will be held October 24 - 25, 2024. It will be an in-person meeting at a location to be determined in Atlanta.
X-ALT-DESC;FMTTYPE=text/html:<p>The members of the Georgia Council on Developmental Disabilities (GCDD) meet quarterly to learn what is happening in Georgia and around the nation for people with developmental disabilities and their families. During these meetings, members spend time discussing best or promising practices, hearing from projects funded by GCDD, and conducting business to be an effective and efficient organization.</p><p>The next Council Meeting will be held&nbsp;October 24 - 25, 2024. It will be an in-person meeting at a location to be determined in Atlanta.</p>
LAST-MODIFIED:20240814T235330Z
SEQUENCE:51
X-ACCESS:1
X-HITS:303
X-COLOR:3366cc
X-SHOW-END-TIME:0
END:VEVENT
BEGIN:VEVENT
DTSTART;VALUE=DATE:20250116
DTEND;VALUE=DATE:20250118
UID:3FB146BB-E5EE-496A-BCEA-EAADBD81C6C4
SUMMARY:GCDD Council Meeting - January 2025
CREATED:20241219T181254Z
DTSTAMP:20241219T181254Z
URL:https://gcdd.org/news-a-media/calendar-of-events/gcdd-council-meeting-january-2025
DESCRIPTION:The Georgia Council on Develomental Disabilities (GCDD) will hold its next Council Meeting on Thursday, January 16th from 10 AM - 4:30 PM and Friday, January 17th from 9 AM - 1 PM. The meeting is virtual.\NUse the following links to register. You will need to register for both days.\NDay 1: https://us02web.zoom.us/meeting/register/tZArfuCvrzstG9ThOkm7is4IRVwMv51prz_A\NDay 2: https://us02web.zoom.us/meeting/register/tZwtc-ioqTooGd1GJ1bYwpUoH6MW3tp6oXx1
X-ALT-DESC;FMTTYPE=text/html:<p class="p1"><span class="s1">The Georgia Council on Develomental Disabilities (GCDD) will hold its next Council Meeting on Thursday, January 16th from 10 AM - 4:30 PM and Friday, January 17th from 9 AM - 1 PM. The meeting is virtual.</span></p><p class="p1"><span class="s1">Use the following links to register. You will need to register for both days.</span></p><p class="p2"><span class="s2">Day 1:&nbsp;<a href="https://us02web.zoom.us/meeting/register/tZArfuCvrzstG9ThOkm7is4IRVwMv51prz_A"></a><a href="https://us02web.zoom.us/meeting/register/tZArfuCvrzstG9ThOkm7is4IRVwMv51prz_A">https://us02web.zoom.us/meeting/register/tZArfuCvrzstG9ThOkm7is4IRVwMv51prz_A</a></span></p><p class="p2"><span class="s2">Day 2:&nbsp;<a href="https://us02web.zoom.us/meeting/register/tZwtc-ioqTooGd1GJ1bYwpUoH6MW3tp6oXx1"></a><a href="https://us02web.zoom.us/meeting/register/tZwtc-ioqTooGd1GJ1bYwpUoH6MW3tp6oXx1">https://us02web.zoom.us/meeting/register/tZwtc-ioqTooGd1GJ1bYwpUoH6MW3tp6oXx1</a></span></p>
LAST-MODIFIED:20241219T182018Z
SEQUENCE:444
X-ACCESS:1
X-HITS:636
X-COLOR:8cc640
X-SHOW-END-TIME:1
END:VEVENT
BEGIN:VEVENT
DTSTART;TZID=America/New_York:20250129T090000
DTEND;TZID=America/New_York:20250129T133000
UID:2AFB9A50-C1E1-499C-83B2-29E987EC7A58
SUMMARY:GCDD's Employment/IPSE Advocacy Day
CREATED:20250127T153816Z
DTSTAMP:20250127T153816Z
URL:https://www.eventbrite.com/e/gcdd-employmentipse-advocacy-day-tickets-1116547456499?aff=oddtdtcreator
DESCRIPTION:Advocacy Days give members of Georgia's intellectual and developmental disabilities (I/DD) community the chance to connect directly with state leaders. They are a great opportunity for both new advocates and seasoned ones to have a real impact on our state's policies for people with I/DD. There will be three Advocacy Days in 2025: January 29th, February 12th, and February 26th. See below for details and registration information.\N\NWhen: Wednesday, January 29, 2025 from 9am to 1:30pm EST\NLocation: Paul D. Coverdell Legislative Office Building, 18 Capitol Square Southwest Atlanta, GA 30334\NRegister here: https://www.eventbrite.com/e/gcdd-employmentipse-advocacy-day-tickets-1116547456499?aff=oddtdtcreator\N\NEmployment: Currently, employers at community rehabilitation programs in Georgia can legally pay people with disabilities less than the minimum wage. This is known as a 14(c) certificate and organizations holding one can pay people as little as 22¢ an hour. Advocates will meet with their legislators to call for a bill to end 14(c) certificates. This will ensure fair and livable wages for Georgians with disabilities. View our one-pager on 14(c) Certificates (PDF).\NInclusive Post Secondary Education (IPSE): Georgia has been leading the way in advocating for Inclusive Post Secondary Education programs. Currently, Georgia has nine schools supporting people with intellectual disabilities (ID) to go to school in Georgia. These programs serve as a pipeline for future skilled and talented candidates with disabilities in Georgia to learn skills and get education that can help them to enter the workforce and/or live independently after college. Advocates will meet with their legislators to thank them for last year’s investment of $1.5 million.\NTo help prepare for Advocacy Days, GCDD offers the following resources:\N\NAn Advocates' Guide to the Ropes: How to speak to your legislators during session.\NNavigate Before You Advocate: How to get to the Capitol and Coverdell Legislative Office Building.\NFinding Your State Legislator: How to know who represents you under The Gold Dome.\N
X-ALT-DESC;FMTTYPE=text/html:<p class="p1"><span class="s1">Advocacy Days give members of Georgia's intellectual and developmental disabilities (I/DD) community the chance to connect directly with state leaders. They are a great opportunity for both new advocates and seasoned ones to have a real impact on our state's policies for people with I/DD.&nbsp;There will be three Advocacy Days in 2025: January 29th, February 12th, and February 26th. See below for details and registration information.</span></p><ul><li><strong>When:</strong>&nbsp;Wednesday, January 29, 2025 from 9am to 1:30pm EST</li><li><strong>Location:</strong>&nbsp;Paul D. Coverdell Legislative Office Building, 18 Capitol Square Southwest Atlanta, GA 30334</li><li><strong>Register here:&nbsp;</strong><a href="https://www.eventbrite.com/e/gcdd-employmentipse-advocacy-day-tickets-1116547456499?aff=oddtdtcreator" target="_blank" rel="noopener noreferrer" title="Opens in a new tab" aria-label="Opens in a new tab"></a><a href="https://www.eventbrite.com/e/gcdd-employmentipse-advocacy-day-tickets-1116547456499?aff=oddtdtcreator">https://www.eventbrite.com/e/gcdd-employmentipse-advocacy-day-tickets-1116547456499?aff=oddtdtcreator</a></li></ul><p><strong>Employment:&nbsp;</strong>Currently, employers at community rehabilitation programs in Georgia can legally pay people with disabilities less than the minimum wage. This is known as a 14(c) certificate and organizations holding one can pay people as little as 22¢ an hour. Advocates will meet with their legislators to call for a bill to end 14(c) certificates. This will ensure fair and livable wages for Georgians with disabilities.&nbsp;<a href="images/2025/advocacy_days_2025/Dignity-in-Pay-Act-One-Pager_1-13-2025.pdf" target="_blank" rel="noopener noreferrer" title="Open in new tab" aria-label="Open in new tab">View our one-pager on 14(c) Certificates (PDF)</a>.</p><p><strong>Inclusive Post Secondary Education (IPSE):&nbsp;</strong>Georgia has been leading the way in advocating for Inclusive Post Secondary Education programs. Currently, Georgia has nine schools supporting people with intellectual disabilities (ID) to go to school in Georgia. These programs serve as a pipeline for future skilled and talented candidates with disabilities in Georgia to learn skills and get education that can help them to enter the workforce and/or live independently after college. Advocates will meet with their legislators to thank them for last year’s investment of $1.5 million.</p><p class="p1"><span class="s1">To help prepare for Advocacy Days, GCDD offers the following resources:</span></p><ul class="ul1"><li class="li2"><span class="s2"><a href="images/2025/advocacy_days_2025/An-Advocates-Guide-to-the-Ropes.pdf"><span class="s3">An Advocates' Guide to the Ropes</span></a></span><span class="s1">: How to speak to your legislators during session.</span></li><li class="li2"><span class="s2"><a href="images/2025/advocacy_days_2025/Navigate-before-You-Advocate.pdf"><span class="s3">Navigate Before You Advocate</span></a></span><span class="s1">: How to get to the Capitol and Coverdell Legislative Office Building.</span></li><li class="li2"><span class="s2"><a href="images/2025/advocacy_days_2025/Finding-our-State-Legislator.pdf"><span class="s3">Finding Your State Legislator</span></a></span><span class="s1">: How to know who represents you under The Gold Dome.</span></li></ul>
LAST-MODIFIED:20250127T154949Z
SEQUENCE:693
X-ACCESS:1
X-HITS:388
X-COLOR:8cc640
X-SHOW-END-TIME:1
END:VEVENT
BEGIN:VEVENT
DTSTART;TZID=America/New_York:20250212T090000
DTEND;TZID=America/New_York:20250212T133000
UID:E6467255-F234-42E4-967C-D2FE8C7EE139
SUMMARY:GCDD's Waivers and Wages Advocacy Day
CREATED:20250127T154918Z
DTSTAMP:20250127T154918Z
URL:https://www.eventbrite.com/e/gcdd-waivers-and-wages-advocacy-day-tickets-1119956854099?aff=oddtdtcreator
DESCRIPTION:Advocacy Days give members of Georgia's intellectual and developmental disabilities (I/DD) community the chance to connect directly with state leaders. They are a great opportunity for both new advocates and seasoned ones to have a real impact on our state's policies for people with I/DD. There will be three Advocacy Days in 2025: January 29th, February 12th, and February 26th. See below for details and registration information.\N\NWhen: Wednesday, February 12, 2025 from 9am to 1:30pm EST\NLocation: Paul D. Coverdell Legislative Office Building, 18 Capitol Square Southwest Atlanta, GA 30334\NRegister here: https://www.eventbrite.com/e/gcdd-waivers-and-wages-advocacy-day-tickets-1119956854099?aff=oddtdtcreator\N\NWaivers: COMP/NOW Waivers provide necessary care services and support to individuals with intellectual and developmental disabilities. Currently, we have over 7,000 Georgians waiting for waivers. They play a crucial role in offering pathways to employment and financial stability. Waivers also give people with disabilities a change to fully participate in their communities.\NTo help prepare for Advocacy Days, GCDD offers the following resources:\N\NAn Advocates' Guide to the Ropes: How to speak to your legislators during session.\NNavigate Before You Advocate: How to get to the Capitol and Coverdell Legislative Office Building.\NFinding Your State Legislator: How to know who represents you under The Gold Dome.\N
X-ALT-DESC;FMTTYPE=text/html:<p>Advocacy Days give members of Georgia's intellectual and developmental disabilities (I/DD) community the chance to connect directly with state leaders. They are a great opportunity for both new advocates and seasoned ones to have a real impact on our state's policies for people with I/DD.&nbsp;There will be three Advocacy Days in 2025: January 29th, February 12th, and February 26th. See below for details and registration information.</p><ul><li><strong>When:</strong>&nbsp;Wednesday, February 12, 2025 from 9am to 1:30pm EST</li><li><strong>Location:</strong>&nbsp;Paul D. Coverdell Legislative Office Building, 18 Capitol Square Southwest Atlanta, GA 30334</li><li><strong>Register here:&nbsp;</strong><a href="https://www.eventbrite.com/e/gcdd-waivers-and-wages-advocacy-day-tickets-1119956854099?aff=oddtdtcreator" target="_blank" rel="noopener noreferrer" title="Opens in a new tab" aria-label="Opens in a new tab"></a><a href="https://www.eventbrite.com/e/gcdd-waivers-and-wages-advocacy-day-tickets-1119956854099?aff=oddtdtcreator">https://www.eventbrite.com/e/gcdd-waivers-and-wages-advocacy-day-tickets-1119956854099?aff=oddtdtcreator</a></li></ul><p><strong>Waivers:&nbsp;</strong>COMP/NOW Waivers provide necessary care services and support to individuals with intellectual and developmental disabilities. Currently, we have over 7,000 Georgians waiting for waivers. They play a crucial role in offering pathways to employment and financial stability. Waivers also give people with disabilities a change to fully participate in their communities.</p><p>To help prepare for Advocacy Days, GCDD offers the following resources:</p><ul><li><a href="images/2025/advocacy_days_2025/An-Advocates-Guide-to-the-Ropes.pdf" target="_blank" rel="noopener noreferrer" title="Open in new tab" aria-label="Open in new tab">An Advocates' Guide to the Ropes</a>: How to speak to your legislators during session.</li><li><a href="images/2025/advocacy_days_2025/Navigate-before-You-Advocate.pdf" target="_blank" rel="noopener noreferrer" title="Open in new tab" aria-label="Open in new tab">Navigate Before You Advocate</a>: How to get to the Capitol and Coverdell Legislative Office Building.</li><li><a href="images/2025/advocacy_days_2025/Finding-our-State-Legislator.pdf" target="_blank" rel="noopener noreferrer" title="Open in new tab" aria-label="Open in new tab">Finding Your State Legislator</a>: How to know who represents you under The Gold Dome.</li></ul>
LAST-MODIFIED:20250127T155250Z
SEQUENCE:212
X-ACCESS:1
X-HITS:489
X-COLOR:8cc640
X-SHOW-END-TIME:1
END:VEVENT
BEGIN:VEVENT
DTSTART;TZID=America/New_York:20250226T090000
DTEND;TZID=America/New_York:20250226T133000
UID:B51CEAA7-0AA5-41AD-81C2-1F56C26D1929
SUMMARY:GCDD's I/DD Commission Advocacy Day
CREATED:20250127T155154Z
DTSTAMP:20250127T155154Z
URL:https://www.eventbrite.com/e/gcdd-idd-commission-advocacy-day-tickets-1119965560139?aff=oddtdtcreator
DESCRIPTION:Advocacy Days give members of Georgia's intellectual and developmental disabilities (I/DD) community the chance to connect directly with state leaders. They are a great opportunity for both new advocates and seasoned ones to have a real impact on our state's policies for people with I/DD. There will be three Advocacy Days in 2025: January 29th, February 12th, and February 26th. See below for details and registration information.\N\NWhen: Wednesday, February 26, 2025 from 9am to 1:30pm EST\NLocation: Paul D. Coverdell Legislative Office Building, 18 Capitol Square Southwest Atlanta, GA 30334\NRegister here: https://www.eventbrite.com/e/gcdd-idd-commission-advocacy-day-tickets-1119965560139?aff=oddtdtcreator \N\NI/DD Commission: Georgia’s system of support for adults with I/DD is outdated. A Senate study committee met in 2022 to determine the need for Medicaid services that keep people with disabilities in their home and communities. This committee recommended that the legislature funds 2,400 new NOW/COMP waivers and that it creates an I/DD commission.\NThe goal of the commission is to develop new solutions for ending the NOW/COMP waitlist, employment, housing, and other important issues for the disability community so that adults with I/DD can live, work, and thrive in our communities.\NTo help prepare for Advocacy Days, GCDD offers the following resources:\N\NAn Advocates' Guide to the Ropes: How to speak to your legislators during session.\NNavigate Before You Advocate: How to get to the Capitol and Coverdell Legislative Office Building.\NFinding Your State Legislator: How to know who represents you under The Gold Dome.\N
X-ALT-DESC;FMTTYPE=text/html:<p class="p1"><span class="s1">Advocacy Days give members of Georgia's intellectual and developmental disabilities (I/DD) community the chance to connect directly with state leaders. They are a great opportunity for both new advocates and seasoned ones to have a real impact on our state's policies for people with I/DD.&nbsp;There will be three Advocacy Days in 2025: January 29th, February 12th, and February 26th. See below for details and registration information.</span></p><ul><li><strong>When:</strong>&nbsp;Wednesday, February 26, 2025 from 9am to 1:30pm EST</li><li><strong>Location:</strong>&nbsp;Paul D. Coverdell Legislative Office Building, 18 Capitol Square Southwest Atlanta, GA 30334</li><li><strong>Register here:</strong>&nbsp;<a href="https://www.eventbrite.com/e/gcdd-idd-commission-advocacy-day-tickets-1119965560139?aff=oddtdtcreator" target="_blank" rel="noopener noreferrer" title="Opens in a new tab" aria-label="Opens in a new tab"></a><a href="https://www.eventbrite.com/e/gcdd-idd-commission-advocacy-day-tickets-1119965560139?aff=oddtdtcreator">https://www.eventbrite.com/e/gcdd-idd-commission-advocacy-day-tickets-1119965560139?aff=oddtdtcreator</a>&nbsp;</li></ul><p><strong>I/DD Commission:&nbsp;</strong>Georgia’s system of support for adults with I/DD is outdated. A Senate study committee met in 2022 to determine the need for Medicaid services that keep people with disabilities in their home and communities. This committee recommended that the legislature funds 2,400 new NOW/COMP waivers and that it creates an I/DD commission.</p><p>The goal of the commission is to develop new solutions for ending the NOW/COMP waitlist, employment, housing, and other important issues for the disability community so that adults with I/DD can live, work, and thrive in our communities.</p><p class="p1"><span class="s1">To help prepare for Advocacy Days, GCDD offers the following resources:</span></p><ul class="ul1"><li class="li2"><span class="s2"><a href="images/2025/advocacy_days_2025/An-Advocates-Guide-to-the-Ropes.pdf"><span class="s3">An Advocates' Guide to the Ropes</span></a></span><span class="s1">: How to speak to your legislators during session.</span></li><li class="li2"><span class="s2"><a href="images/2025/advocacy_days_2025/Navigate-before-You-Advocate.pdf"><span class="s3">Navigate Before You Advocate</span></a></span><span class="s1">: How to get to the Capitol and Coverdell Legislative Office Building.</span></li><li class="li2"><span class="s2"><a href="images/2025/advocacy_days_2025/Finding-our-State-Legislator.pdf"><span class="s3">Finding Your State Legislator</span></a></span><span class="s1">: How to know who represents you under The Gold Dome.</span></li></ul>
LAST-MODIFIED:20250127T155154Z
SEQUENCE:0
X-ACCESS:1
X-HITS:639
X-COLOR:8cc640
X-SHOW-END-TIME:1
END:VEVENT
BEGIN:VEVENT
DTSTART;TZID=America/New_York:20250318T130000
DTEND;TZID=America/New_York:20250318T140000
UID:85860B9E-98BD-4EA7-842D-CE1C3DE84735
SUMMARY:Federal Updates with DD Partners
CREATED:20250127T155815Z
DTSTAMP:20250127T155815Z
URL:https://us02web.zoom.us/meeting/register/-0eF-CWlTji3nNfDVzP0ow
DESCRIPTION:Join Georgia's DD Partners for an important Q&A session!\NAttend a special webinar on March 18th at 1:00 PM to get the latest updates on 504 lawsuits, the Department of Education, and Medicaid.\NHear updates on these issues from:\N\NLeslie Lipson, Georgia Coalition for Equity in Education\NDana Lloyd, Georgia Advocacy Office\ND’Arcy Robb, Georgia Council on Developmental Disabilities\N\NDon't miss this opportunity to learn more from experts and have your questions answered. Registration is required.\NRegister now and submit your questions at https://us02web.zoom.us/meeting/register/-0eF-CWlTji3nNfDVzP0ow
X-ALT-DESC;FMTTYPE=text/html:<p><strong>Join Georgia's DD Partners for an important Q&amp;A session!</strong></p><p>Attend a special webinar on March 18th at 1:00 PM to get the latest updates on 504 lawsuits, the Department of Education, and Medicaid.</p><p>Hear updates on these issues from:</p><ul><li>Leslie Lipson,&nbsp;Georgia Coalition for Equity in Education</li><li>Dana Lloyd, Georgia Advocacy Office</li><li>D’Arcy Robb, Georgia Council on Developmental Disabilities</li></ul><p>Don't miss this opportunity to learn more from experts and have your questions answered. Registration is required.</p><p>Register now and submit your questions at <a href="https://us02web.zoom.us/meeting/register/-0eF-CWlTji3nNfDVzP0ow">https://us02web.zoom.us/meeting/register/-0eF-CWlTji3nNfDVzP0ow</a></p>
LAST-MODIFIED:20250310T160749Z
SEQUENCE:3629374
X-ACCESS:1
X-HITS:601
X-COLOR:8cc640
X-SHOW-END-TIME:0
END:VEVENT
BEGIN:VEVENT
DTSTART;VALUE=DATE:20250424
DTEND;VALUE=DATE:20250426
UID:96AD62F5-A518-4E03-B385-E883437DCF11
SUMMARY:GCDD Quarterly Council Meeting
CREATED:20250127T155815Z
DTSTAMP:20250127T155815Z
URL:https://gcdd.org/news-a-media/calendar-of-events/gcdd-quarterly-council-meeting-6
DESCRIPTION:The members of the Georgia Council on Developmental Disabilities (GCDD) meet quarterly to learn what is happening in Georgia and around the nation for people with developmental disabilities and their families. During these meetings, members spend time discussing best or promising practices, hearing from projects funded by GCDD, and conducting business to be an effective and efficient organization. The next Council meeting will be April 24-25, 2025 and held at GCDD's Office:\NGCDD's OfficeThe Floyd Building, West Tower200 Piedmont Avenue20th Floor - Floyd RoomAtlanta, GA 30334\NOnce you exit the elevator, you'll see signs directing you to the room. Parking can be found for $10/day in the Pete Hackney Deck located at 162 Jesse Hill Jr. Drive, Atlanta, GA 30334. 
X-ALT-DESC;FMTTYPE=text/html:<p>The members of the Georgia Council on Developmental Disabilities (GCDD) meet quarterly to learn what is happening in Georgia and around the nation for people with developmental disabilities and their families. During these meetings, members spend time discussing best or promising practices, hearing from projects funded by GCDD, and conducting business to be an effective and efficient organization. The next Council meeting will be&nbsp;April 24-25, 2025 and held at&nbsp;GCDD's Office:</p><p>GCDD's Office<br />The Floyd Building, West Tower<br />200 Piedmont Avenue<br />20th Floor - Floyd Room<br />Atlanta, GA 30334</p><p style="font-weight: 400;">Once you exit the elevator, you'll see signs directing you to the room. Parking can be found for $10/day in the Pete Hackney Deck located at 162 Jesse Hill Jr. Drive, Atlanta, GA 30334.&nbsp;</p>
LAST-MODIFIED:20250331T200131Z
SEQUENCE:5457796
X-ACCESS:1
X-HITS:733
X-COLOR:8cc640
X-SHOW-END-TIME:1
END:VEVENT
BEGIN:VEVENT
DTSTART;VALUE=DATE:20250807
DTEND;VALUE=DATE:20250809
UID:B9381C11-176F-4F85-92E2-CC7C83C4013A
SUMMARY:GCDD Council Meeting
CREATED:20250707T142310Z
DTSTAMP:20250707T142310Z
URL:https://gcdd.org/news-a-media/calendar-of-events/gcdd-council-meeting-4
DESCRIPTION:The members of the Georgia Council on Developmental Disabilities (GCDD) meet quarterly to learn what is happening in Georgia and around the nation for people with developmental disabilities and their families. During these meetings, members spend time discussing best or promising practices, hearing from projects funded by GCDD, and conducting business to be an effective and efficient organization.\NNext GCDD Council MeetingDate: August 7-8, 2025 beginning at 10:00 a.m.Location: Online via Zoom\NThursday, August 7th: https://us02web.zoom.us/meeting/register/INYYIdW4T9SfSV8jLDU9Rg#/registration\NFriday, August 8th: https://us02web.zoom.us/meeting/register/LQs8s0kCSqqMRrg89L0tfA#/registration
X-ALT-DESC;FMTTYPE=text/html:<p>The members of the Georgia Council on Developmental Disabilities (GCDD) meet quarterly to learn what is happening in Georgia and around the nation for people with developmental disabilities and their families. During these meetings, members spend time discussing best or promising practices, hearing from projects funded by GCDD, and conducting business to be an effective and efficient organization.</p><p>Next GCDD Council Meeting<br />Date: August 7-8, 2025 beginning at 10:00 a.m.<br />Location: Online via Zoom</p><p>Thursday, August 7th:&nbsp;<a href="https://us02web.zoom.us/meeting/register/INYYIdW4T9SfSV8jLDU9Rg#/registration">https://us02web.zoom.us/meeting/register/INYYIdW4T9SfSV8jLDU9Rg#/registration</a></p><p>Friday, August 8th:&nbsp;<a href="https://us02web.zoom.us/meeting/register/LQs8s0kCSqqMRrg89L0tfA#/registration">https://us02web.zoom.us/meeting/register/LQs8s0kCSqqMRrg89L0tfA#/registration</a></p>
LAST-MODIFIED:20250730T160150Z
SEQUENCE:1993120
X-ACCESS:1
X-HITS:628
X-COLOR:8cc640
X-SHOW-END-TIME:0
END:VEVENT
END:VCALENDAR